BEGIN:VCALENDAR
VERSION:2.0
PRODID:-//SLOCAOR | San Luis Obispo Coastal Association of Realtors - ECPv6.15.20//NONSGML v1.0//EN
CALSCALE:GREGORIAN
METHOD:PUBLISH
X-WR-CALNAME:SLOCAOR | San Luis Obispo Coastal Association of Realtors
X-ORIGINAL-URL:https://slocaor.org
X-WR-CALDESC:Events for SLOCAOR | San Luis Obispo Coastal Association of Realtors
REFRESH-INTERVAL;VALUE=DURATION:PT1H
X-Robots-Tag:noindex
X-PUBLISHED-TTL:PT1H
BEGIN:VTIMEZONE
TZID:America/Los_Angeles
BEGIN:DAYLIGHT
TZOFFSETFROM:-0800
TZOFFSETTO:-0700
TZNAME:PDT
DTSTART:20250309T100000
END:DAYLIGHT
BEGIN:STANDARD
TZOFFSETFROM:-0700
TZOFFSETTO:-0800
TZNAME:PST
DTSTART:20251102T090000
END:STANDARD
BEGIN:DAYLIGHT
TZOFFSETFROM:-0800
TZOFFSETTO:-0700
TZNAME:PDT
DTSTART:20260308T100000
END:DAYLIGHT
BEGIN:STANDARD
TZOFFSETFROM:-0700
TZOFFSETTO:-0800
TZNAME:PST
DTSTART:20261101T090000
END:STANDARD
BEGIN:DAYLIGHT
TZOFFSETFROM:-0800
TZOFFSETTO:-0700
TZNAME:PDT
DTSTART:20270314T100000
END:DAYLIGHT
BEGIN:STANDARD
TZOFFSETFROM:-0700
TZOFFSETTO:-0800
TZNAME:PST
DTSTART:20271107T090000
END:STANDARD
END:VTIMEZONE
BEGIN:VEVENT
DTSTART;TZID=America/Los_Angeles:20260402T090000
DTEND;TZID=America/Los_Angeles:20260402T093000
DTSTAMP:20260421T214229
CREATED:20240411T182158Z
LAST-MODIFIED:20260402T161147Z
UID:75013-1775120400-1775122200@slocaor.org
SUMMARY:Cambria Meeting
DESCRIPTION:Moonstone Cellars @ 812 Cornwall St.
URL:https://slocaor.org/event/cambria-meeting-183/
END:VEVENT
BEGIN:VEVENT
DTSTART;VALUE=DATE:20260401
DTEND;VALUE=DATE:20260403
DTSTAMP:20260421T214229
CREATED:20260317T224143Z
LAST-MODIFIED:20260402T235746Z
UID:99960-1775001600-1775174399@slocaor.org
SUMMARY:Association Store Closed for Moving
DESCRIPTION:
URL:https://slocaor.org/event/association-store-closed-for-moving/
END:VEVENT
BEGIN:VEVENT
DTSTART;TZID=America/Los_Angeles:20260326T110000
DTEND;TZID=America/Los_Angeles:20260326T120000
DTSTAMP:20260421T214229
CREATED:20260227T225645Z
LAST-MODIFIED:20260320T164204Z
UID:99517-1774522800-1774526400@slocaor.org
SUMMARY:FOREWARN TRAINING
DESCRIPTION:Click Here to Register!  \nFOREWARN was built around agent safety and identity verification. However\, FOREWARN is also a multi-dimensional tool that can be utilized in other areas of your business to help you be the best real estate professional you can be while helping to keep you safe in the process.The purpose of this training is to help real estate professionals gain a much better understanding of the platform along with going over some “Pro-Tips” to help you understand the various ways to leverage FOREWARN in your real estate business.We will also open up the webinar for live Q&A to end the session.Thank you\, we look forward to getting you up and running with FOREWARN!
URL:https://slocaor.org/event/forewarn-training-22/
END:VEVENT
BEGIN:VEVENT
DTSTART;TZID=America/Los_Angeles:20260324T100000
DTEND;TZID=America/Los_Angeles:20260324T113000
DTSTAMP:20260421T214229
CREATED:20251218T201211Z
LAST-MODIFIED:20260320T164204Z
UID:97863-1774346400-1774351800@slocaor.org
SUMMARY:Broker / Owner / Manager Roundtable
DESCRIPTION:Broker / Owner / Manager Roundtables are geared toward creating an opportunity for you to bring forward and discuss issues facing real estate brokerages today.  \nOpen to SLO Coastal Brokers\, Owners\, and ManagersClick Here to Register! 
URL:https://slocaor.org/event/broker-owner-manager-roundtable-5/
END:VEVENT
END:VCALENDAR